BEGIN:VCALENDAR
VERSION:2.0
PRODID:-//MP Live Music - ECPv6.15.20//NONSGML v1.0//EN
CALSCALE:GREGORIAN
METHOD:PUBLISH
X-ORIGINAL-URL:https://mplivemusic.com
X-WR-CALDESC:Events for MP Live Music
REFRESH-INTERVAL;VALUE=DURATION:PT1H
X-Robots-Tag:noindex
X-PUBLISHED-TTL:PT1H
BEGIN:VTIMEZONE
TZID:Australia/Melbourne
BEGIN:STANDARD
TZOFFSETFROM:+1100
TZOFFSETTO:+1000
TZNAME:AEST
DTSTART:20180331T160000
END:STANDARD
BEGIN:DAYLIGHT
TZOFFSETFROM:+1000
TZOFFSETTO:+1100
TZNAME:AEDT
DTSTART:20181006T160000
END:DAYLIGHT
BEGIN:STANDARD
TZOFFSETFROM:+1100
TZOFFSETTO:+1000
TZNAME:AEST
DTSTART:20190406T160000
END:STANDARD
BEGIN:DAYLIGHT
TZOFFSETFROM:+1000
TZOFFSETTO:+1100
TZNAME:AEDT
DTSTART:20191005T160000
END:DAYLIGHT
BEGIN:STANDARD
TZOFFSETFROM:+1100
TZOFFSETTO:+1000
TZNAME:AEST
DTSTART:20200404T160000
END:STANDARD
BEGIN:DAYLIGHT
TZOFFSETFROM:+1000
TZOFFSETTO:+1100
TZNAME:AEDT
DTSTART:20201003T160000
END:DAYLIGHT
END:VTIMEZONE
BEGIN:VTIMEZONE
TZID:UTC
BEGIN:STANDARD
TZOFFSETFROM:+0000
TZOFFSETTO:+0000
TZNAME:UTC
DTSTART:20180101T000000
END:STANDARD
END:VTIMEZONE
BEGIN:VEVENT
DTSTART;TZID=Australia/Melbourne:20190329T183000
DTEND;TZID=Australia/Melbourne:20190329T183000
DTSTAMP:20260425T105348
CREATED:20181013T212037Z
LAST-MODIFIED:20190328T070139Z
UID:16130-1553884200-1553884200@mplivemusic.com
SUMMARY:Jetty Rd Brewery  Matt Rooney
DESCRIPTION:Matt Rooney live at Jetty Rd Brewery.
URL:https://mplivemusic.com/event/jetty-rd-brewery-southband-snake-charmers-2019-03-29/
LOCATION:Jetty Rd Brewery\, 12-14 Brasser Ave\, Dromana\, 3936
ATTACH;FMTTYPE=image/jpeg:https://mplivemusic.com/wp-content/uploads/2018/10/Matt-Rooney.jpg
END:VEVENT
BEGIN:VEVENT
DTSTART;TZID=Australia/Melbourne:20190324T163000
DTEND;TZID=Australia/Melbourne:20190324T163000
DTSTAMP:20260425T105348
CREATED:20190225T231814Z
LAST-MODIFIED:20190225T231814Z
UID:16108-1553445000-1553445000@mplivemusic.com
SUMMARY:The Dubliner  Richy McKay
DESCRIPTION:
URL:https://mplivemusic.com/event/the-dubliner-richy-mckay-2019-03-24/
LOCATION:The Dubliner\, 23 Octavia St\, Mornington\, VIC\, 3939
END:VEVENT
BEGIN:VEVENT
DTSTART;TZID=Australia/Melbourne:20190324T140000
DTEND;TZID=Australia/Melbourne:20190324T140000
DTSTAMP:20260425T105348
CREATED:20180613T130829Z
LAST-MODIFIED:20180613T130829Z
UID:16131-1553436000-1553436000@mplivemusic.com
SUMMARY:Jetty Rd Brewery  Alex Hughes
DESCRIPTION:
URL:https://mplivemusic.com/event/jetty-rd-brewery-alex-hughes-2019-03-24/
LOCATION:Jetty Rd Brewery\, 12-14 Brasser Ave\, Dromana\, 3936
ATTACH;FMTTYPE=image/jpeg:https://mplivemusic.com/wp-content/uploads/2018/06/Alex-Hughes.jpg
END:VEVENT
BEGIN:VEVENT
DTSTART;TZID=UTC:20190324T140000
DTEND;TZID=UTC:20190324T140000
DTSTAMP:20260425T105348
CREATED:20170327T115408Z
LAST-MODIFIED:20170327T115408Z
UID:15631-1553436000-1553436000@mplivemusic.com
SUMMARY:Wishing Well Tavern  Sarah Gardner
DESCRIPTION: 
URL:https://mplivemusic.com/event/the-wishing-well-tavern-sarah-gardner-2019-03-24/
LOCATION:The Wishing Well Tavern\, 502 Station St\,\, Currum
CATEGORIES:Singer/Songwriter
ATTACH;FMTTYPE=image/jpeg:https://mplivemusic.com/wp-content/uploads/2017/03/Sarah-Gardner.jpg
END:VEVENT
BEGIN:VEVENT
DTSTART;TZID=Australia/Melbourne:20190324T130000
DTEND;TZID=Australia/Melbourne:20190324T130000
DTSTAMP:20260425T105348
CREATED:20180702T030950Z
LAST-MODIFIED:20190224T211046Z
UID:15506-1553432400-1553432400@mplivemusic.com
SUMMARY:The Craft & Co Farm  Cherry Blue
DESCRIPTION:Combining a great mix of acoustic guitar and vocals playing a range of easy listening\, pop/rock\, soul\, jazz/blues and funky sounds with amazing harmonies.
URL:https://mplivemusic.com/event/the-craft-co-farm-cherry-blue-2019-03-24/
LOCATION:The Craft & Co Farm\, 170 Riverend Rd\, Bangholm\, 3175
ATTACH;FMTTYPE=image/jpeg:https://mplivemusic.com/wp-content/uploads/2018/07/Cherry-Blue.jpg
END:VEVENT
BEGIN:VEVENT
DTSTART;TZID=Australia/Melbourne:20190323T193000
DTEND;TZID=Australia/Melbourne:20190323T193000
DTSTAMP:20260425T105348
CREATED:20190128T031714Z
LAST-MODIFIED:20190328T071852Z
UID:15824-1553369400-1553369400@mplivemusic.com
SUMMARY:The Dubliner  Pat & Cora
DESCRIPTION:
URL:https://mplivemusic.com/event/the-dubliner-pat-cora/
LOCATION:The Dubliner\, 23 Octavia St\, Mornington\, VIC\, 3939
END:VEVENT
BEGIN:VEVENT
DTSTART;TZID=Australia/Melbourne:20190323T190000
DTEND;TZID=Australia/Melbourne:20190323T190000
DTSTAMP:20260425T105348
CREATED:20181126T042902Z
LAST-MODIFIED:20190308T223216Z
UID:16129-1553367600-1553367600@mplivemusic.com
SUMMARY:Jetty Rd Brewery DJ Sophie Joy
DESCRIPTION:https://jettyroad.com.au
URL:https://mplivemusic.com/event/jr-brewery-dj-sophie-joy-2019-03-23/
LOCATION:Jetty Rd Brewery\, 12-14 Brasser Ave\, Dromana\, 3936
ATTACH;FMTTYPE=image/jpeg:https://mplivemusic.com/wp-content/uploads/2018/11/DJ-Sophie-Joy.jpg
END:VEVENT
BEGIN:VEVENT
DTSTART;TZID=Australia/Melbourne:20190322T193000
DTEND;TZID=Australia/Melbourne:20190322T193000
DTSTAMP:20260425T105348
CREATED:20180828T144051Z
LAST-MODIFIED:20180828T144051Z
UID:16112-1553283000-1553283000@mplivemusic.com
SUMMARY:The Dubliner  A Bit of Blarney
DESCRIPTION:
URL:https://mplivemusic.com/event/the-dubliner-a-bit-of-blarney-2019-03-22/
LOCATION:The Dubliner\, 23 Octavia St\, Mornington\, VIC\, 3939
END:VEVENT
BEGIN:VEVENT
DTSTART;TZID=Australia/Melbourne:20190317T160000
DTEND;TZID=Australia/Melbourne:20190317T160000
DTSTAMP:20260425T105348
CREATED:20181112T212329Z
LAST-MODIFIED:20181112T212329Z
UID:15960-1552838400-1552838400@mplivemusic.com
SUMMARY:Humdinger  Simon Levick
DESCRIPTION:
URL:https://mplivemusic.com/event/humdinger-simon-levick-2-2019-03-17/
LOCATION:Humdinger Bar\, 101 Young Street\, Frankston\, Vic
ATTACH;FMTTYPE=image/jpeg:https://mplivemusic.com/wp-content/uploads/2018/11/Simon-Levick.jpg
END:VEVENT
BEGIN:VEVENT
DTSTART;TZID=Australia/Melbourne:20190317T150000
DTEND;TZID=Australia/Melbourne:20190317T150000
DTSTAMP:20260425T105348
CREATED:20190203T223704Z
LAST-MODIFIED:20190203T223704Z
UID:15923-1552834800-1552834800@mplivemusic.com
SUMMARY:McDaid's Irish Pub  Shanakee
DESCRIPTION:
URL:https://mplivemusic.com/event/mcdaids-irish-pub-shanakee-2019-03-17/
LOCATION:McDaids Irish Pub\, Rosebud
END:VEVENT
BEGIN:VEVENT
DTSTART;TZID=Australia/Melbourne:20190317T140000
DTEND;TZID=Australia/Melbourne:20190317T140000
DTSTAMP:20260425T105348
CREATED:20171107T011326Z
LAST-MODIFIED:20190328T072423Z
UID:15635-1552831200-1552831200@mplivemusic.com
SUMMARY:The Wishing Well Tavern   Brian Robinson Acoustic
DESCRIPTION: 
URL:https://mplivemusic.com/event/the-wishing-well-tavern-brian-robinson-band-2019-03-17/
LOCATION:The Wishing Well Tavern\, 502 Station St\,\, Currum
ATTACH;FMTTYPE=image/jpeg:https://mplivemusic.com/wp-content/uploads/2017/11/BRB.jpg
END:VEVENT
BEGIN:VEVENT
DTSTART;TZID=Australia/Melbourne:20190317T120000
DTEND;TZID=Australia/Melbourne:20190317T120000
DTSTAMP:20260425T105348
CREATED:20190211T022600Z
LAST-MODIFIED:20190211T022600Z
UID:15970-1552824000-1552824000@mplivemusic.com
SUMMARY:Palo Cibo  Simon Levick
DESCRIPTION:
URL:https://mplivemusic.com/event/palo-cibo-simon-levick-2019-03-17/
LOCATION:Palo Cibo\, Watts Rd\, Mornington
ATTACH;FMTTYPE=image/jpeg:https://mplivemusic.com/wp-content/uploads/2018/11/Simon-Levick.jpg
END:VEVENT
BEGIN:VEVENT
DTSTART;TZID=Australia/Melbourne:20190317T110000
DTEND;TZID=Australia/Melbourne:20190317T110000
DTSTAMP:20260425T105348
CREATED:20180820T001050Z
LAST-MODIFIED:20190328T070258Z
UID:16110-1552820400-1552820400@mplivemusic.com
SUMMARY:The Dubliner  Green Fieldz
DESCRIPTION:
URL:https://mplivemusic.com/event/the-dubliner-green-fieldz-2019-03-17/
LOCATION:The Dubliner\, 23 Octavia St\, Mornington\, VIC\, 3939
ATTACH;FMTTYPE=image/jpeg:https://mplivemusic.com/wp-content/uploads/2018/08/Green-Fieldz.jpg
END:VEVENT
BEGIN:VEVENT
DTSTART;TZID=Australia/Melbourne:20190316T193000
DTEND;TZID=Australia/Melbourne:20190316T193000
DTSTAMP:20260425T105348
CREATED:20180820T001050Z
LAST-MODIFIED:20190328T070258Z
UID:16109-1552764600-1552764600@mplivemusic.com
SUMMARY:The Dubliner  Green Fieldz
DESCRIPTION:
URL:https://mplivemusic.com/event/the-dubliner-green-fieldz-2019-03-16/
LOCATION:The Dubliner\, 23 Octavia St\, Mornington\, VIC\, 3939
ATTACH;FMTTYPE=image/jpeg:https://mplivemusic.com/wp-content/uploads/2018/08/Green-Fieldz.jpg
END:VEVENT
BEGIN:VEVENT
DTSTART;TZID=Australia/Melbourne:20190316T130000
DTEND;TZID=Australia/Melbourne:20190316T130000
DTSTAMP:20260425T105348
CREATED:20180617T032305Z
LAST-MODIFIED:20190328T071656Z
UID:15517-1552741200-1552741200@mplivemusic.com
SUMMARY:The Craft & Co Farm  The Requestadors
DESCRIPTION:
URL:https://mplivemusic.com/event/the-craft-co-farm-the-requestadors-2019-03-16/
LOCATION:The Craft & Co Farm\, 170 Riverend Rd\, Bangholm\, 3175
END:VEVENT
BEGIN:VEVENT
DTSTART;TZID=Australia/Melbourne:20190315T183000
DTEND;TZID=Australia/Melbourne:20190315T183000
DTSTAMP:20260425T105348
CREATED:20181013T212037Z
LAST-MODIFIED:20190328T070139Z
UID:14604-1552674600-1552674600@mplivemusic.com
SUMMARY:Jetty Rd Brewery  Matt Rooney
DESCRIPTION:Matt Rooney live at Jetty Rd Brewery.
URL:https://mplivemusic.com/event/jetty-rd-brewery-southband-snake-charmers/
LOCATION:Jetty Rd Brewery\, 12-14 Brasser Ave\, Dromana\, 3936
ATTACH;FMTTYPE=image/jpeg:https://mplivemusic.com/wp-content/uploads/2018/10/Matt-Rooney.jpg
END:VEVENT
BEGIN:VEVENT
DTSTART;TZID=Australia/Melbourne:20190310T163000
DTEND;TZID=Australia/Melbourne:20190310T163000
DTSTAMP:20260425T105348
CREATED:20180828T144051Z
LAST-MODIFIED:20190225T232308Z
UID:13995-1552235400-1552235400@mplivemusic.com
SUMMARY:The Dubliner  A Bit of Blarney
DESCRIPTION:
URL:https://mplivemusic.com/event/the-dubliner-a-bit-of-blarney/
LOCATION:The Dubliner\, 23 Octavia St\, Mornington\, VIC\, 3939
END:VEVENT
BEGIN:VEVENT
DTSTART;TZID=Australia/Melbourne:20190310T160000
DTEND;TZID=Australia/Melbourne:20190310T160000
DTSTAMP:20260425T105348
CREATED:20181112T212329Z
LAST-MODIFIED:20181112T212329Z
UID:15959-1552233600-1552233600@mplivemusic.com
SUMMARY:Humdinger  Simon Levick
DESCRIPTION:
URL:https://mplivemusic.com/event/humdinger-simon-levick-2-2019-03-10/
LOCATION:Humdinger Bar\, 101 Young Street\, Frankston\, Vic
ATTACH;FMTTYPE=image/jpeg:https://mplivemusic.com/wp-content/uploads/2018/11/Simon-Levick.jpg
END:VEVENT
BEGIN:VEVENT
DTSTART;TZID=UTC:20190310T150000
DTEND;TZID=UTC:20190310T150000
DTSTAMP:20260425T105348
CREATED:20161102T133441Z
LAST-MODIFIED:20161102T133441Z
UID:16075-1552230000-1552230000@mplivemusic.com
SUMMARY:The Royal Hotel Backyard Brew
DESCRIPTION:About\nFunk* Soul* Blues* Classic Covers \nHipsmackin\, fret smashing\, ace bassin\, motivating\, good buzzing\, cool talking\, high walking\, fast living\, ever giving\, cool.. lightnin’ Backyard Brew.
URL:https://mplivemusic.com/event/the-soundbar-backyard-brew-2019-03-10/
LOCATION:The Royal Hotel\, 770 Esplanade\, Mornington
CATEGORIES:Blues/Roots,Funk/Rock
ATTACH;FMTTYPE=image/jpeg:https://mplivemusic.com/wp-content/uploads/2016/11/Backyard.jpeg
END:VEVENT
BEGIN:VEVENT
DTSTART;TZID=Australia/Melbourne:20190310T140000
DTEND;TZID=Australia/Melbourne:20190310T140000
DTSTAMP:20260425T105348
CREATED:20180613T130829Z
LAST-MODIFIED:20190227T022038Z
UID:12634-1552226400-1552226400@mplivemusic.com
SUMMARY:Jetty Rd Brewery  Alex Hughes
DESCRIPTION:
URL:https://mplivemusic.com/event/jetty-rd-brewery-alex-hughes/
LOCATION:Jetty Rd Brewery\, 12-14 Brasser Ave\, Dromana\, 3936
ATTACH;FMTTYPE=image/jpeg:https://mplivemusic.com/wp-content/uploads/2018/06/Alex-Hughes.jpg
END:VEVENT
BEGIN:VEVENT
DTSTART;TZID=Australia/Melbourne:20190310T120000
DTEND;TZID=Australia/Melbourne:20190310T120000
DTSTAMP:20260425T105348
CREATED:20190211T022600Z
LAST-MODIFIED:20190211T022600Z
UID:15969-1552219200-1552219200@mplivemusic.com
SUMMARY:Palo Cibo  Simon Levick
DESCRIPTION:
URL:https://mplivemusic.com/event/palo-cibo-simon-levick-2019-03-10/
LOCATION:Palo Cibo\, Watts Rd\, Mornington
ATTACH;FMTTYPE=image/jpeg:https://mplivemusic.com/wp-content/uploads/2018/11/Simon-Levick.jpg
END:VEVENT
BEGIN:VEVENT
DTSTART;TZID=Australia/Melbourne:20190309T200000
DTEND;TZID=Australia/Melbourne:20190309T200000
DTSTAMP:20260425T105348
CREATED:20190203T224027Z
LAST-MODIFIED:20190328T070641Z
UID:15921-1552161600-1552161600@mplivemusic.com
SUMMARY:McDaid's Irish Pub  The Pikemen
DESCRIPTION:
URL:https://mplivemusic.com/event/mcdaids-irish-pub-geoff-daly-2019-03-09/
LOCATION:McDaids Irish Pub\, Rosebud
END:VEVENT
BEGIN:VEVENT
DTSTART;TZID=Australia/Melbourne:20190309T130000
DTEND;TZID=Australia/Melbourne:20190309T130000
DTSTAMP:20260425T105348
CREATED:20180617T032551Z
LAST-MODIFIED:20180617T032551Z
UID:15503-1552136400-1552136400@mplivemusic.com
SUMMARY:The Craft & Co Farm  Chris Vogt
DESCRIPTION:
URL:https://mplivemusic.com/event/the-craft-co-farm-chris-vogt-2019-03-09/
LOCATION:The Craft & Co Farm\, 170 Riverend Rd\, Bangholm\, 3175
END:VEVENT
BEGIN:VEVENT
DTSTART;TZID=Australia/Melbourne:20190308T193000
DTEND;TZID=Australia/Melbourne:20190308T193000
DTSTAMP:20260425T105348
CREATED:20180820T001050Z
LAST-MODIFIED:20190328T070258Z
UID:13710-1552073400-1552073400@mplivemusic.com
SUMMARY:The Dubliner  Green Fieldz
DESCRIPTION:
URL:https://mplivemusic.com/event/the-dubliner-green-fieldz/
LOCATION:The Dubliner\, 23 Octavia St\, Mornington\, VIC\, 3939
ATTACH;FMTTYPE=image/jpeg:https://mplivemusic.com/wp-content/uploads/2018/08/Green-Fieldz.jpg
END:VEVENT
BEGIN:VEVENT
DTSTART;TZID=Australia/Melbourne:20190303T163000
DTEND;TZID=Australia/Melbourne:20190303T163000
DTSTAMP:20260425T105348
CREATED:20190225T231814Z
LAST-MODIFIED:20190225T231814Z
UID:16106-1551630600-1551630600@mplivemusic.com
SUMMARY:The Dubliner  Richy McKay
DESCRIPTION:
URL:https://mplivemusic.com/event/the-dubliner-richy-mckay/
LOCATION:The Dubliner\, 23 Octavia St\, Mornington\, VIC\, 3939
END:VEVENT
BEGIN:VEVENT
DTSTART;TZID=Australia/Melbourne:20190303T160000
DTEND;TZID=Australia/Melbourne:20190303T160000
DTSTAMP:20260425T105348
CREATED:20181112T212329Z
LAST-MODIFIED:20181112T212329Z
UID:15958-1551628800-1551628800@mplivemusic.com
SUMMARY:Humdinger  Simon Levick
DESCRIPTION:
URL:https://mplivemusic.com/event/humdinger-simon-levick-2-2019-03-03/
LOCATION:Humdinger Bar\, 101 Young Street\, Frankston\, Vic
ATTACH;FMTTYPE=image/jpeg:https://mplivemusic.com/wp-content/uploads/2018/11/Simon-Levick.jpg
END:VEVENT
BEGIN:VEVENT
DTSTART;TZID=Australia/Melbourne:20190303T150000
DTEND;TZID=Australia/Melbourne:20190303T150000
DTSTAMP:20260425T105348
CREATED:20190203T225241Z
LAST-MODIFIED:20190203T225241Z
UID:15919-1551625200-1551625200@mplivemusic.com
SUMMARY:McDaid's Irish Pub  A Bit of Blarney
DESCRIPTION:
URL:https://mplivemusic.com/event/mcdaids-irish-pub-a-bit-of-blarney-2019-03-03/
LOCATION:McDaids Irish Pub\, Rosebud
END:VEVENT
BEGIN:VEVENT
DTSTART;TZID=UTC:20190303T150000
DTEND;TZID=UTC:20190303T150000
DTSTAMP:20260425T105348
CREATED:20161102T133441Z
LAST-MODIFIED:20190225T025812Z
UID:2232-1551625200-1551625200@mplivemusic.com
SUMMARY:The Royal Hotel Backyard Brew
DESCRIPTION:About\nFunk* Soul* Blues* Classic Covers \nHipsmackin\, fret smashing\, ace bassin\, motivating\, good buzzing\, cool talking\, high walking\, fast living\, ever giving\, cool.. lightnin’ Backyard Brew.
URL:https://mplivemusic.com/event/the-soundbar-backyard-brew/
LOCATION:The Royal Hotel\, 770 Esplanade\, Mornington
CATEGORIES:Blues/Roots,Funk/Rock
ATTACH;FMTTYPE=image/jpeg:https://mplivemusic.com/wp-content/uploads/2016/11/Backyard.jpeg
END:VEVENT
BEGIN:VEVENT
DTSTART;TZID=UTC:20190303T140000
DTEND;TZID=UTC:20190303T140000
DTSTAMP:20260425T105348
CREATED:20170313T162347Z
LAST-MODIFIED:20170313T162347Z
UID:15879-1551621600-1551621600@mplivemusic.com
SUMMARY:Beach 162   Andrew Wishart
DESCRIPTION:
URL:https://mplivemusic.com/event/beach-162-andrew-wishart-2019-03-03/
LOCATION:Beach 162\, 162 Beach Street\, Frankston\, Vic
CATEGORIES:Singer/Songwriter
ATTACH;FMTTYPE=image/jpeg:https://mplivemusic.com/wp-content/uploads/2017/03/Andrew-Wisharts.jpg
END:VEVENT
BEGIN:VEVENT
DTSTART;TZID=Australia/Melbourne:20190303T130000
DTEND;TZID=Australia/Melbourne:20190303T130000
DTSTAMP:20260425T105348
CREATED:20180702T030950Z
LAST-MODIFIED:20190224T211045Z
UID:13191-1551618000-1551618000@mplivemusic.com
SUMMARY:The Craft & Co Farm  Cherry Blue
DESCRIPTION:Combining a great mix of acoustic guitar and vocals playing a range of easy listening\, pop/rock\, soul\, jazz/blues and funky sounds with amazing harmonies.
URL:https://mplivemusic.com/event/the-craft-co-farm-cherry-blue/
LOCATION:The Craft & Co Farm\, 170 Riverend Rd\, Bangholm\, 3175
ATTACH;FMTTYPE=image/jpeg:https://mplivemusic.com/wp-content/uploads/2018/07/Cherry-Blue.jpg
END:VEVENT
END:VCALENDAR